Package: eiR Version: 1.49.0 Command: /home/biocbuild/bbs-3.22-bioc/R/bin/R CMD INSTALL eiR StartedAt: 2025-10-03 15:11:34 -0400 (Fri, 03 Oct 2025) EndedAt: 2025-10-03 15:11:43 -0400 (Fri, 03 Oct 2025) EllapsedTime: 9.1 seconds RetCode: 0 Status: OK