Package: eds Version: 1.11.0 Command: /home/biocbuild/R/R/bin/R CMD build --keep-empty-dirs --no-resave-data eds StartedAt: 2025-10-10 00:20:52 -0000 (Fri, 10 Oct 2025) EndedAt: 2025-10-10 00:21:10 -0000 (Fri, 10 Oct 2025) EllapsedTime: 18.0 seconds RetCode: 0 Status: OK PackageFile: eds_1.11.0.tar.gz PackageFileSize: 240.8 KiB