Package: eds Version: 1.11.0 Command: /Library/Frameworks/R.framework/Resources/bin/R CMD check --install=check:eds.install-out.txt --library=/Library/Frameworks/R.framework/Resources/library --no-vignettes --timings eds_1.11.0.tar.gz StartedAt: 2025-05-27 19:01:57 -0400 (Tue, 27 May 2025) EndedAt: 2025-05-27 19:02:16 -0400 (Tue, 27 May 2025) EllapsedTime: 19.2 seconds RetCode: 0 Status: OK CheckDir: eds.Rcheck Warnings: 0