Package: edgeR Version: 4.7.3 Command: chmod a+r edgeR -R && F:\biocbuild\bbs-3.22-bioc\R\bin\R.exe CMD build --keep-empty-dirs --no-resave-data edgeR StartedAt: 2025-08-14 19:53:07 -0400 (Thu, 14 Aug 2025) EndedAt: 2025-08-14 19:54:10 -0400 (Thu, 14 Aug 2025) EllapsedTime: 62.7 seconds RetCode: 0 Status: OK PackageFile: edgeR_4.7.3.tar.gz PackageFileSize: 3.463 MiB