Package: edge Version: 2.39.0 Command: E:\biocbuild\bbs-3.21-bioc\R\bin\R.exe CMD INSTALL edge StartedAt: 2025-02-03 16:10:26 -0500 (Mon, 03 Feb 2025) EndedAt: 2025-02-03 16:11:15 -0500 (Mon, 03 Feb 2025) EllapsedTime: 49.5 seconds RetCode: 0 Status: OK