Package: edge Version: 2.39.0 Command: rm -rf edge.buildbin-libdir && mkdir edge.buildbin-libdir && E:\biocbuild\bbs-3.21-bioc\R\bin\R.exe CMD INSTALL --build --library=edge.buildbin-libdir edge_2.39.0.tar.gz StartedAt: 2025-02-04 07:54:19 -0500 (Tue, 04 Feb 2025) EndedAt: 2025-02-04 07:55:45 -0500 (Tue, 04 Feb 2025) EllapsedTime: 86.6 seconds RetCode: 0 Status: OK PackageFile: edge_2.39.0.zip PackageFileSize: 1.579 MiB