Package: edge Version: 2.39.0 Command: /Library/Frameworks/R.framework/Resources/bin/R CMD check --install=check:edge.install-out.txt --library=/Library/Frameworks/R.framework/Resources/library --no-vignettes --timings edge_2.39.0.tar.gz StartedAt: 2025-02-03 20:19:14 -0500 (Mon, 03 Feb 2025) EndedAt: 2025-02-03 20:22:25 -0500 (Mon, 03 Feb 2025) EllapsedTime: 190.6 seconds RetCode: 0 Status: OK CheckDir: edge.Rcheck Warnings: 0