Package: edge Version: 2.39.0 Command: /Library/Frameworks/R.framework/Resources/bin/R CMD build --keep-empty-dirs --no-resave-data edge StartedAt: 2025-02-03 16:40:25 -0500 (Mon, 03 Feb 2025) EndedAt: 2025-02-03 16:41:29 -0500 (Mon, 03 Feb 2025) EllapsedTime: 63.9 seconds RetCode: 0 Status: OK PackageFile: edge_2.39.0.tar.gz PackageFileSize: 1006 KiB