Package: edge Version: 2.39.0 Command: /home/biocbuild/R/R/bin/R CMD check --install=check:edge.install-out.txt --library=/home/biocbuild/R/R/site-library --no-vignettes --timings edge_2.39.0.tar.gz StartedAt: 2025-01-28 10:13:42 -0000 (Tue, 28 Jan 2025) EndedAt: 2025-01-28 10:17:24 -0000 (Tue, 28 Jan 2025) EllapsedTime: 222.2 seconds RetCode: 0 Status: OK CheckDir: edge.Rcheck Warnings: 0