Package: edge Version: 2.39.0 Command: /Library/Frameworks/R.framework/Resources/bin/R CMD check --install=check:edge.install-out.txt --library=/Library/Frameworks/R.framework/Resources/library --no-vignettes --timings edge_2.39.0.tar.gz StartedAt: 2025-02-03 19:41:16 -0500 (Mon, 03 Feb 2025) EndedAt: 2025-02-03 19:42:24 -0500 (Mon, 03 Feb 2025) EllapsedTime: 67.8 seconds RetCode: 0 Status: OK CheckDir: edge.Rcheck Warnings: 0