Package: ecolitk Version: 1.81.0 Command: /home/biocbuild/bbs-3.22-bioc/R/bin/R CMD INSTALL ecolitk StartedAt: 2025-10-24 15:22:59 -0400 (Fri, 24 Oct 2025) EndedAt: 2025-10-24 15:23:02 -0400 (Fri, 24 Oct 2025) EllapsedTime: 3.4 seconds RetCode: 0 Status: OK