Package: ecolitk Version: 1.79.0 Command: /Library/Frameworks/R.framework/Resources/bin/R CMD build --keep-empty-dirs --no-resave-data ecolitk StartedAt: 2025-01-10 16:34:41 -0500 (Fri, 10 Jan 2025) EndedAt: 2025-01-10 16:35:02 -0500 (Fri, 10 Jan 2025) EllapsedTime: 20.6 seconds RetCode: 0 Status: OK PackageFile: ecolitk_1.79.0.tar.gz PackageFileSize: 1.829 MiB