Package: ecolitk Version: 1.79.0 Command: /Library/Frameworks/R.framework/Resources/bin/R CMD build --keep-empty-dirs --no-resave-data ecolitk StartedAt: 2025-01-10 16:15:57 -0500 (Fri, 10 Jan 2025) EndedAt: 2025-01-10 16:16:04 -0500 (Fri, 10 Jan 2025) EllapsedTime: 7.1 seconds RetCode: 0 Status: OK PackageFile: ecolitk_1.79.0.tar.gz PackageFileSize: 1.829 MiB