Package: easyRNASeq Version: 2.45.1 Command: rm -rf easyRNASeq.buildbin-libdir && mkdir easyRNASeq.buildbin-libdir && F:\biocbuild\bbs-3.22-bioc\R\bin\R.exe CMD INSTALL --build --library=easyRNASeq.buildbin-libdir easyRNASeq_2.45.1.tar.gz StartedAt: 2025-08-15 10:12:02 -0400 (Fri, 15 Aug 2025) EndedAt: 2025-08-15 10:14:41 -0400 (Fri, 15 Aug 2025) EllapsedTime: 158.2 seconds RetCode: 0 Status: OK PackageFile: easyRNASeq_2.45.1.zip PackageFileSize: 23.99 MiB