Package: easyRNASeq Version: 2.43.0 Command: E:\biocbuild\bbs-3.21-bioc\R\bin\R.exe CMD INSTALL easyRNASeq StartedAt: 2025-02-16 16:36:23 -0500 (Sun, 16 Feb 2025) EndedAt: 2025-02-16 16:38:14 -0500 (Sun, 16 Feb 2025) EllapsedTime: 111.6 seconds RetCode: 0 Status: OK