Package: easyRNASeq Version: 2.47.0 Command: /home/biocbuild/bbs-3.23-bioc/R/bin/R CMD INSTALL easyRNASeq StartedAt: 2025-10-31 16:04:29 -0400 (Fri, 31 Oct 2025) EndedAt: 2025-10-31 16:05:14 -0400 (Fri, 31 Oct 2025) EllapsedTime: 45.4 seconds RetCode: 0 Status: OK