Package: easyRNASeq Version: 2.47.0 Command: /home/biocbuild/bbs-3.23-bioc/R/bin/R CMD build --keep-empty-dirs --no-resave-data easyRNASeq StartedAt: 2025-11-03 17:21:04 -0500 (Mon, 03 Nov 2025) EndedAt: 2025-11-03 17:24:50 -0500 (Mon, 03 Nov 2025) EllapsedTime: 226.2 seconds RetCode: 0 Status: OK PackageFile: easyRNASeq_2.47.0.tar.gz PackageFileSize: 69.55 MiB