Package: easyRNASeq Version: 2.45.0 Maintainer: Nicolas Delhomme MaintainerEmail: nicolas.delhomme at umu.se git_url: https://git.bioconductor.org/packages/easyRNASeq git_branch: devel git_last_commit: 084ec36 git_last_commit_date: 2025-04-15 10:12:08 -0400 (Tue, 15 Apr 2025)