Package: drugTargetInteractions Version: 1.17.0 Command: F:\biocbuild\bbs-3.22-bioc\R\bin\R.exe CMD INSTALL drugTargetInteractions StartedAt: 2025-08-14 16:37:24 -0400 (Thu, 14 Aug 2025) EndedAt: 2025-08-14 16:39:00 -0400 (Thu, 14 Aug 2025) EllapsedTime: 95.8 seconds RetCode: 0 Status: OK