Package: doubletrouble Version: 1.7.0 Command: E:\biocbuild\bbs-3.21-bioc\R\bin\R.exe CMD INSTALL doubletrouble StartedAt: 2025-02-02 16:18:31 -0500 (Sun, 02 Feb 2025) EndedAt: 2025-02-02 16:19:23 -0500 (Sun, 02 Feb 2025) EllapsedTime: 52.4 seconds RetCode: 0 Status: OK