Package: doubletrouble Version: 1.7.0 Command: chmod a+r doubletrouble -R && E:\biocbuild\bbs-3.21-bioc\R\bin\R.exe CMD build --keep-empty-dirs --no-resave-data doubletrouble StartedAt: 2025-02-05 18:31:23 -0500 (Wed, 05 Feb 2025) EndedAt: 2025-02-05 18:33:15 -0500 (Wed, 05 Feb 2025) EllapsedTime: 112.4 seconds RetCode: 0 Status: OK PackageFile: doubletrouble_1.7.0.tar.gz PackageFileSize: 4.257 MiB