Package: doubletrouble Version: 1.7.0 Command: /home/biocbuild/bbs-3.21-bioc/R/bin/R CMD INSTALL doubletrouble StartedAt: 2025-02-03 15:59:14 -0500 (Mon, 03 Feb 2025) EndedAt: 2025-02-03 15:59:53 -0500 (Mon, 03 Feb 2025) EllapsedTime: 39.3 seconds RetCode: 0 Status: OK