Package: doubletrouble Version: 1.7.0 Command: /home/biocbuild/bbs-3.21-bioc/R/bin/R CMD build --keep-empty-dirs --no-resave-data doubletrouble StartedAt: 2025-02-03 17:12:57 -0500 (Mon, 03 Feb 2025) EndedAt: 2025-02-03 17:14:17 -0500 (Mon, 03 Feb 2025) EllapsedTime: 80.1 seconds RetCode: 0 Status: OK PackageFile: doubletrouble_1.7.0.tar.gz PackageFileSize: 4.747 MiB