Package: doubletrouble Version: 1.7.0 Command: /Library/Frameworks/R.framework/Resources/bin/R CMD INSTALL doubletrouble StartedAt: 2025-02-05 15:28:28 -0500 (Wed, 05 Feb 2025) EndedAt: 2025-02-05 15:29:21 -0500 (Wed, 05 Feb 2025) EllapsedTime: 53.3 seconds RetCode: 0 Status: OK