Package: doubletrouble Version: 1.7.0 Command: /Library/Frameworks/R.framework/Resources/bin/R CMD build --keep-empty-dirs --no-resave-data doubletrouble StartedAt: 2025-02-10 16:34:30 -0500 (Mon, 10 Feb 2025) EndedAt: 2025-02-10 16:36:01 -0500 (Mon, 10 Feb 2025) EllapsedTime: 91.5 seconds RetCode: 0 Status: OK PackageFile: doubletrouble_1.7.0.tar.gz PackageFileSize: 4.829 MiB