Package: doubletrouble Version: 1.7.0 Command: rm -rf doubletrouble.buildbin-libdir && mkdir doubletrouble.buildbin-libdir && /Users/biocbuild/BBS/utils/build-universal.sh doubletrouble_1.7.0.tar.gz /Library/Frameworks/R.framework/Resources/bin/R doubletrouble.buildbin-libdir StartedAt: 2025-02-06 00:28:18 -0500 (Thu, 06 Feb 2025) EndedAt: 2025-02-06 00:29:11 -0500 (Thu, 06 Feb 2025) EllapsedTime: 52.8 seconds RetCode: 0 Status: OK PackageFile: doubletrouble_1.7.0.tgz PackageFileSize: 4.891 MiB