Package: doubletrouble Version: 1.7.0 Command: /home/biocbuild/R/R/bin/R CMD INSTALL doubletrouble StartedAt: 2025-01-29 20:14:55 -0000 (Wed, 29 Jan 2025) EndedAt: 2025-01-29 20:15:49 -0000 (Wed, 29 Jan 2025) EllapsedTime: 54.7 seconds RetCode: 0 Status: OK