Package: doubletrouble Version: 1.7.0 Command: /home/biocbuild/R/R/bin/R CMD build --keep-empty-dirs --no-resave-data doubletrouble StartedAt: 2025-01-28 22:35:25 -0000 (Tue, 28 Jan 2025) EndedAt: 2025-01-28 22:37:22 -0000 (Tue, 28 Jan 2025) EllapsedTime: 117.1 seconds RetCode: 0 Status: OK PackageFile: doubletrouble_1.7.0.tar.gz PackageFileSize: 4.374 MiB