Package: doseR Version: 1.25.0 Command: chmod a+r doseR -R && F:\biocbuild\bbs-3.22-bioc\R\bin\R.exe CMD build --keep-empty-dirs --no-resave-data doseR StartedAt: 2025-08-14 19:49:06 -0400 (Thu, 14 Aug 2025) EndedAt: 2025-08-14 19:49:50 -0400 (Thu, 14 Aug 2025) EllapsedTime: 43.4 seconds RetCode: 0 Status: OK PackageFile: doseR_1.25.0.tar.gz PackageFileSize: 948.4 KiB