Package: doseR Version: 1.25.0 Command: rm -rf doseR.buildbin-libdir && mkdir doseR.buildbin-libdir && F:\biocbuild\bbs-3.22-bioc\R\bin\R.exe CMD INSTALL --build --library=doseR.buildbin-libdir doseR_1.25.0.tar.gz StartedAt: 2025-08-15 10:11:07 -0400 (Fri, 15 Aug 2025) EndedAt: 2025-08-15 10:11:36 -0400 (Fri, 15 Aug 2025) EllapsedTime: 28.5 seconds RetCode: 0 Status: OK PackageFile: doseR_1.25.0.zip PackageFileSize: 1000 KiB