Package: doppelgangR Version: 1.35.0 Command: /home/biocbuild/R/R/bin/R CMD INSTALL doppelgangR StartedAt: 2025-01-29 20:18:03 -0000 (Wed, 29 Jan 2025) EndedAt: 2025-01-29 20:18:47 -0000 (Wed, 29 Jan 2025) EllapsedTime: 44.2 seconds RetCode: 0 Status: OK