Package: doppelgangR Version: 1.37.3 Maintainer: Levi Waldron MaintainerEmail: lwaldron.research at gmail.com git_url: https://git.bioconductor.org/packages/doppelgangR git_branch: devel git_last_commit: c539a22 git_last_commit_date: 2025-05-12 12:27:22 -0400 (Mon, 12 May 2025)