Package: dominoSignal Version: 1.3.0 Command: rm -rf dominoSignal.buildbin-libdir && mkdir dominoSignal.buildbin-libdir && F:\biocbuild\bbs-3.22-bioc\R\bin\R.exe CMD INSTALL --build --library=dominoSignal.buildbin-libdir dominoSignal_1.3.0.tar.gz StartedAt: 2025-08-15 10:10:56 -0400 (Fri, 15 Aug 2025) EndedAt: 2025-08-15 10:11:56 -0400 (Fri, 15 Aug 2025) EllapsedTime: 59.3 seconds RetCode: 0 Status: OK PackageFile: dominoSignal_1.3.0.zip PackageFileSize: 1.034 MiB