Package: dominoSignal Version: 1.1.0 Command: /home/biocbuild/bbs-3.21-bioc/R/bin/R CMD INSTALL dominoSignal StartedAt: 2025-02-02 15:54:04 -0500 (Sun, 02 Feb 2025) EndedAt: 2025-02-02 15:54:29 -0500 (Sun, 02 Feb 2025) EllapsedTime: 24.6 seconds RetCode: 0 Status: OK