Package: dominoSignal Version: 1.1.0 Command: /home/biocbuild/bbs-3.21-bioc/R/bin/R CMD build --keep-empty-dirs --no-resave-data dominoSignal StartedAt: 2025-02-02 17:00:27 -0500 (Sun, 02 Feb 2025) EndedAt: 2025-02-02 17:05:49 -0500 (Sun, 02 Feb 2025) EllapsedTime: 322.4 seconds RetCode: 0 Status: OK PackageFile: dominoSignal_1.1.0.tar.gz PackageFileSize: 1.162 MiB