Package: dmrseq Version: 1.29.2 Command: /home/biocbuild/bbs-3.22-bioc/R/bin/R CMD build --keep-empty-dirs --no-resave-data --md5 dmrseq StartedAt: 2025-10-03 17:21:04 -0400 (Fri, 03 Oct 2025) EndedAt: 2025-10-03 17:23:57 -0400 (Fri, 03 Oct 2025) EllapsedTime: 173.1 seconds RetCode: 0 Status: OK PackageFile: dmrseq_1.29.2.tar.gz PackageFileSize: 2.822 MiB