Package: dks Version: 1.55.0 Command: /Library/Frameworks/R.framework/Resources/bin/R CMD build --keep-empty-dirs --no-resave-data dks StartedAt: 2025-05-02 16:11:25 -0400 (Fri, 02 May 2025) EndedAt: 2025-05-02 16:11:31 -0400 (Fri, 02 May 2025) EllapsedTime: 6.1 seconds RetCode: 0 Status: OK PackageFile: dks_1.55.0.tar.gz PackageFileSize: 601.1 KiB