Package: divergence Version: 1.23.0 Command: chmod a+r divergence -R && E:\biocbuild\bbs-3.21-bioc\R\bin\R.exe CMD build --keep-empty-dirs --no-resave-data divergence StartedAt: 2025-02-14 18:24:07 -0500 (Fri, 14 Feb 2025) EndedAt: 2025-02-14 18:25:15 -0500 (Fri, 14 Feb 2025) EllapsedTime: 68.0 seconds RetCode: 0 Status: OK PackageFile: divergence_1.23.0.tar.gz PackageFileSize: 2.072 MiB