Package: dittoSeq Version: 1.19.0 Command: chmod a+r dittoSeq -R && E:\biocbuild\bbs-3.21-bioc\R\bin\R.exe CMD build --keep-empty-dirs --no-resave-data dittoSeq StartedAt: 2025-02-05 18:28:43 -0500 (Wed, 05 Feb 2025) EndedAt: 2025-02-05 18:31:35 -0500 (Wed, 05 Feb 2025) EllapsedTime: 171.8 seconds RetCode: 0 Status: OK PackageFile: dittoSeq_1.19.0.tar.gz PackageFileSize: 2.501 MiB