Package: dittoSeq Version: 1.19.0 Command: rm -rf dittoSeq.buildbin-libdir && mkdir dittoSeq.buildbin-libdir && E:\biocbuild\bbs-3.21-bioc\R\bin\R.exe CMD INSTALL --build --library=dittoSeq.buildbin-libdir dittoSeq_1.19.0.tar.gz StartedAt: 2025-02-06 07:55:49 -0500 (Thu, 06 Feb 2025) EndedAt: 2025-02-06 07:56:44 -0500 (Thu, 06 Feb 2025) EllapsedTime: 55.2 seconds RetCode: 0 Status: OK PackageFile: dittoSeq_1.19.0.zip PackageFileSize: 2.027 MiB