Package: dittoSeq Version: 1.19.0 Command: /home/biocbuild/bbs-3.21-bioc/R/bin/R CMD INSTALL dittoSeq StartedAt: 2025-02-04 15:21:13 -0500 (Tue, 04 Feb 2025) EndedAt: 2025-02-04 15:21:39 -0500 (Tue, 04 Feb 2025) EllapsedTime: 26.4 seconds RetCode: 0 Status: OK