Package: dittoSeq Version: 1.19.0 Command: /home/biocbuild/bbs-3.21-bioc/R/bin/R CMD check --install=check:dittoSeq.install-out.txt --library=/home/biocbuild/bbs-3.21-bioc/R/site-library --timings dittoSeq_1.19.0.tar.gz StartedAt: 2025-02-04 21:49:03 -0500 (Tue, 04 Feb 2025) EndedAt: 2025-02-04 21:57:22 -0500 (Tue, 04 Feb 2025) EllapsedTime: 498.6 seconds RetCode: 0 Status: OK CheckDir: dittoSeq.Rcheck Warnings: 0