Package: dittoSeq Version: 1.19.0 Command: rm -rf dittoSeq.buildbin-libdir && mkdir dittoSeq.buildbin-libdir && /Users/biocbuild/BBS/utils/build-universal.sh dittoSeq_1.19.0.tar.gz /Library/Frameworks/R.framework/Resources/bin/R dittoSeq.buildbin-libdir StartedAt: 2025-02-06 00:27:48 -0500 (Thu, 06 Feb 2025) EndedAt: 2025-02-06 00:28:26 -0500 (Thu, 06 Feb 2025) EllapsedTime: 38.1 seconds RetCode: 0 Status: OK PackageFile: dittoSeq_1.19.0.tgz PackageFileSize: 2.828 MiB