Package: dittoSeq Version: 1.19.0 Command: /home/biocbuild/R/R/bin/R CMD check --install=check:dittoSeq.install-out.txt --library=/home/biocbuild/R/R/site-library --no-vignettes --timings dittoSeq_1.19.0.tar.gz StartedAt: 2025-01-28 10:01:48 -0000 (Tue, 28 Jan 2025) EndedAt: 2025-01-28 10:11:04 -0000 (Tue, 28 Jan 2025) EllapsedTime: 555.5 seconds RetCode: 0 Status: OK CheckDir: dittoSeq.Rcheck Warnings: 0