Package: dittoSeq Version: 1.19.0 Command: /home/biocbuild/R/R/bin/R CMD build --keep-empty-dirs --no-resave-data dittoSeq StartedAt: 2025-01-28 22:30:44 -0000 (Tue, 28 Jan 2025) EndedAt: 2025-01-28 22:33:47 -0000 (Tue, 28 Jan 2025) EllapsedTime: 183.1 seconds RetCode: 0 Status: OK PackageFile: dittoSeq_1.19.0.tar.gz PackageFileSize: 2.497 MiB