Package: dittoSeq Version: 1.19.0 Command: /Library/Frameworks/R.framework/Resources/bin/R CMD build --keep-empty-dirs --no-resave-data dittoSeq StartedAt: 2025-02-05 16:10:49 -0500 (Wed, 05 Feb 2025) EndedAt: 2025-02-05 16:11:38 -0500 (Wed, 05 Feb 2025) EllapsedTime: 48.5 seconds RetCode: 0 Status: OK PackageFile: dittoSeq_1.19.0.tar.gz PackageFileSize: 3.307 MiB