Package: discordant Version: 1.33.0 Command: chmod a+r discordant -R && F:\biocbuild\bbs-3.22-bioc\R\bin\R.exe CMD build --keep-empty-dirs --no-resave-data discordant StartedAt: 2025-08-14 19:45:10 -0400 (Thu, 14 Aug 2025) EndedAt: 2025-08-14 19:46:27 -0400 (Thu, 14 Aug 2025) EllapsedTime: 76.9 seconds RetCode: 0 Status: OK PackageFile: discordant_1.33.0.tar.gz PackageFileSize: 475.9 KiB