Package: discordant Version: 1.31.0 Command: E:\biocbuild\bbs-3.21-bioc\R\bin\R.exe CMD check --no-multiarch --install=check:discordant.install-out.txt --library=E:\biocbuild\bbs-3.21-bioc\R\library --no-vignettes --timings discordant_1.31.0.tar.gz StartedAt: 2025-02-04 01:00:43 -0500 (Tue, 04 Feb 2025) EndedAt: 2025-02-04 01:01:49 -0500 (Tue, 04 Feb 2025) EllapsedTime: 66.0 seconds RetCode: 0 Status: OK CheckDir: discordant.Rcheck Warnings: 0