Package: discordant Version: 1.31.0 Command: /Library/Frameworks/R.framework/Resources/bin/R CMD check --install=check:discordant.install-out.txt --library=/Library/Frameworks/R.framework/Resources/library --no-vignettes --timings discordant_1.31.0.tar.gz StartedAt: 2025-02-02 20:04:05 -0500 (Sun, 02 Feb 2025) EndedAt: 2025-02-02 20:04:56 -0500 (Sun, 02 Feb 2025) EllapsedTime: 50.5 seconds RetCode: 0 Status: OK CheckDir: discordant.Rcheck Warnings: 0