Package: dir.expiry Version: 1.17.0 Command: /Library/Frameworks/R.framework/Resources/bin/R CMD INSTALL dir.expiry StartedAt: 2025-05-08 15:02:52 -0400 (Thu, 08 May 2025) EndedAt: 2025-05-08 15:03:07 -0400 (Thu, 08 May 2025) EllapsedTime: 15.2 seconds RetCode: 0 Status: OK